BEGIN:VCALENDAR
VERSION:2.0
PRODID:-//ChamberMaster//Event Calendar 2.0//EN
METHOD:PUBLISH
X-PUBLISHED-TTL:P1H
REFRESH-INTERVAL:P1H
CALSCALE:GREGORIAN
BEGIN:VTIMEZONE
TZID:America/Los_Angeles
BEGIN:DAYLIGHT
RRULE:FREQ=YEARLY;BYMONTH=3;BYDAY=2SU
DTSTART:20070101T000000
TZOFFSETFROM:-0800
TZOFFSETTO:-0700
TZNAME:Pacific Daylight Time
END:DAYLIGHT
BEGIN:STANDARD
RRULE:FREQ=YEARLY;BYMONTH=11;BYDAY=1SU
DTSTART:20070101T000000
TZOFFSETFROM:-0700
TZOFFSETTO:-0800
TZNAME:Pacific Standard Time
END:STANDARD
END:VTIMEZONE
BEGIN:VEVENT
DTSTART;TZID=America/Los_Angeles:20260512T114500
DTEND;TZID=America/Los_Angeles:20260512T133000
X-MICROSOFT-CDO-ALLDAYEVENT:FALSE
SUMMARY:How to Maximize Your HBA Membership Luncheon
DESCRIPTION:Join the HBA Staff and learn how to maximize your HBA Membership. Pizza lunch provided! This is a great time to learn about what the HBA does for you as a member OR to come and learn about joining the HBA!
X-ALT-DESC;FMTTYPE=text/html:Join the HBA Staff and learn how to maximize your HBA Membership. Pizza lunch provided! This is a great time to learn about what the HBA does for you as a member OR to come and learn about joining the HBA!
LOCATION:2075 Madrona Ave SE Salem OR 97302
UID:e.2301.1428947
SEQUENCE:3
DTSTAMP:20260421T203936Z
URL:https://members.homebuildersassociation.org/eventcalendar/Details/how-to-maximize-your-hba-membership-luncheon-1690372?sourceTypeId=Hub
END:VEVENT
END:VCALENDAR
