BEGIN:VCALENDAR
VERSION:2.0
PRODID:-//ChamberMaster//Event Calendar 2.0//EN
METHOD:PUBLISH
X-PUBLISHED-TTL:P1H
REFRESH-INTERVAL:P1H
CALSCALE:GREGORIAN
BEGIN:VTIMEZONE
TZID:America/Los_Angeles
BEGIN:DAYLIGHT
RRULE:FREQ=YEARLY;BYMONTH=3;BYDAY=2SU
DTSTART:20070101T000000
TZOFFSETFROM:-0800
TZOFFSETTO:-0700
TZNAME:Pacific Daylight Time
END:DAYLIGHT
BEGIN:STANDARD
RRULE:FREQ=YEARLY;BYMONTH=11;BYDAY=1SU
DTSTART:20070101T000000
TZOFFSETFROM:-0700
TZOFFSETTO:-0800
TZNAME:Pacific Standard Time
END:STANDARD
END:VTIMEZONE
BEGIN:VEVENT
DTSTART;TZID=America/Los_Angeles:20260512T173000
DTEND;TZID=America/Los_Angeles:20260512T190000
X-MICROSOFT-CDO-ALLDAYEVENT:FALSE
SUMMARY:May Member Dinner Sponsored by Owen Construction with Featured Speaker: John Sladick\, Construction Leadership Training
DESCRIPTION:What if the biggest untapped opportunity in your business isn't a new contract   it's the waste and inefficiency already hiding inside your operations? Join us for the HBA Member Dinner on Monday\, May 12th\, featuring John Sladick of Construction Leadership Training in Salem. John's program is built on a proven approach: develop stronger leaders at every level of your company   from field workers to superintendents   to reduce confusion\, conflict\, and chaos\, and turn those savings directly into improved profit margins. Through continuous education and customized training\, he helps construction companies build the kind of culture where people lead well\, work smarter\, and deliver better results.This is a valuable evening for builders\, contractors\, and trade partners alike.
X-ALT-DESC;FMTTYPE=text/html:<!DOCTYPE html><html><head><title></title></head><body aria-disabled="false"><p>What if the biggest untapped opportunity in your business isn&#39\;t a new contract &mdash\; it&#39\;s the waste and inefficiency already hiding inside your operations? Join us for the HBA Member Dinner on Monday\, May 12th\, featuring John Sladick of Construction Leadership Training in Salem. John&#39\;s program is built on a proven approach: develop stronger leaders at every level of your company &mdash\; from field workers to superintendents &mdash\; to reduce confusion\, conflict\, and chaos\, and turn those savings directly into improved profit margins. Through continuous education and customized training\, he helps construction companies build the kind of culture where people lead well\, work smarter\, and deliver better results.</p><p>This is a valuable evening for builders\, contractors\, and trade partners alike.</p></body></html>
LOCATION:200 Commercial St SE Salem OR 97301
UID:e.2301.1429670
SEQUENCE:3
DTSTAMP:20260421T204752Z
URL:https://members.homebuildersassociation.org/eventcalendar/Details/may-member-dinner-sponsored-by-owen-construction-with-featured-speaker-john-sladick-construction-leadership-training-1691184?sourceTypeId=Hub
END:VEVENT
END:VCALENDAR
