BEGIN:VCALENDAR
VERSION:2.0
PRODID:-//ChamberMaster//Event Calendar 2.0//EN
METHOD:PUBLISH
X-PUBLISHED-TTL:P1H
REFRESH-INTERVAL:P1H
CALSCALE:GREGORIAN
BEGIN:VTIMEZONE
TZID:America/Los_Angeles
BEGIN:DAYLIGHT
RRULE:FREQ=YEARLY;BYMONTH=3;BYDAY=2SU
DTSTART:20070101T000000
TZOFFSETFROM:-0800
TZOFFSETTO:-0700
TZNAME:Pacific Daylight Time
END:DAYLIGHT
BEGIN:STANDARD
RRULE:FREQ=YEARLY;BYMONTH=11;BYDAY=1SU
DTSTART:20070101T000000
TZOFFSETFROM:-0700
TZOFFSETTO:-0800
TZNAME:Pacific Standard Time
END:STANDARD
END:VTIMEZONE
BEGIN:VEVENT
DTSTART;TZID=America/Los_Angeles:20260407T170000
DTEND;TZID=America/Los_Angeles:20260407T183000
X-MICROSOFT-CDO-ALLDAYEVENT:FALSE
SUMMARY:Off the Clock at Cherry City Interiors
DESCRIPTION:Trade the hard hat for a happy hour and come hang out with us at Cherry City Interiors! On April 7th from 5:00 to 6:30 PM\, we're taking Off the Clock to one of Salem's go-to spots for flooring\, design\, and everything in between. Good food\, good drinks\, and good company in a showroom worth seeing. Tickets are $25 for members and $35 for non-members\, with food and drinks included. Come as you are and stay a while.
X-ALT-DESC;FMTTYPE=text/html:<!DOCTYPE html><html><head><title></title></head><body aria-disabled="false"><p>Trade the hard hat for a happy hour and come hang out with us at Cherry City Interiors! On April 7th from 5:00 to 6:30 PM\, we&#39\;re taking Off the Clock to one of Salem&#39\;s go-to spots for flooring\, design\, and everything in between. Good food\, good drinks\, and good company in a showroom worth seeing. Tickets are $25 for members and $35 for non-members\, with food and drinks included. Come as you are and stay a while.</p></body></html>
LOCATION:1768 13th St SE Salem OR 97302
UID:e.2301.1429656
SEQUENCE:3
DTSTAMP:20260421T203936Z
URL:https://members.homebuildersassociation.org/eventcalendar/Details/off-the-clock-at-cherry-city-interiors-1691172?sourceTypeId=Hub
END:VEVENT
END:VCALENDAR
