BEGIN:VCALENDAR
VERSION:2.0
PRODID:-//ChamberMaster//Event Calendar 2.0//EN
METHOD:PUBLISH
X-PUBLISHED-TTL:P1H
REFRESH-INTERVAL:P1H
CALSCALE:GREGORIAN
BEGIN:VTIMEZONE
TZID:America/Los_Angeles
BEGIN:DAYLIGHT
RRULE:FREQ=YEARLY;BYMONTH=3;BYDAY=2SU
DTSTART:20070101T000000
TZOFFSETFROM:-0800
TZOFFSETTO:-0700
TZNAME:Pacific Daylight Time
END:DAYLIGHT
BEGIN:STANDARD
RRULE:FREQ=YEARLY;BYMONTH=11;BYDAY=1SU
DTSTART:20070101T000000
TZOFFSETFROM:-0700
TZOFFSETTO:-0800
TZNAME:Pacific Standard Time
END:STANDARD
END:VTIMEZONE
BEGIN:VEVENT
DTSTART;TZID=America/Los_Angeles:20260611T170000
DTEND;TZID=America/Los_Angeles:20260611T183000
X-MICROSOFT-CDO-ALLDAYEVENT:FALSE
SUMMARY:Off the Clock at Thomas Kay Interiors
DESCRIPTION:Come check out the newest kid on the block! Join us for Off the Clock on June 11th from 5:00 to 6:30 PM at Thomas Kay Interiors' brand-new showroom\, which also happens to be the HBA's new neighbor. It's the perfect excuse to see the new space\, enjoy some food and drinks\, and catch up with your fellow members. Tickets are $25 for members and $35 for non-members. We hope to see you there!
X-ALT-DESC;FMTTYPE=text/html:Come check out the newest kid on the block! Join us for Off the Clock on June 11th from 5:00 to 6:30 PM at Thomas Kay Interiors' brand-new showroom\, which also happens to be the HBA's new neighbor. It's the perfect excuse to see the new space\, enjoy some food and drinks\, and catch up with your fellow members. Tickets are $25 for members and $35 for non-members. We hope to see you there!
LOCATION:
UID:e.2301.1430137
SEQUENCE:3
DTSTAMP:20260421T204706Z
URL:https://members.homebuildersassociation.org/eventcalendar/Details/off-the-clock-at-thomas-kay-interiors-1692205?sourceTypeId=Hub
END:VEVENT
END:VCALENDAR
