BEGIN:VCALENDAR
VERSION:2.0
PRODID:-//ChamberMaster//Event Calendar 2.0//EN
METHOD:PUBLISH
X-PUBLISHED-TTL:P1H
REFRESH-INTERVAL:P1H
CALSCALE:GREGORIAN
BEGIN:VTIMEZONE
TZID:America/Los_Angeles
BEGIN:DAYLIGHT
RRULE:FREQ=YEARLY;BYMONTH=3;BYDAY=2SU
DTSTART:20070101T000000
TZOFFSETFROM:-0800
TZOFFSETTO:-0700
TZNAME:Pacific Daylight Time
END:DAYLIGHT
BEGIN:STANDARD
RRULE:FREQ=YEARLY;BYMONTH=11;BYDAY=1SU
DTSTART:20070101T000000
TZOFFSETFROM:-0700
TZOFFSETTO:-0800
TZNAME:Pacific Standard Time
END:STANDARD
END:VTIMEZONE
BEGIN:VEVENT
DTSTART;TZID=America/Los_Angeles:20260710T173000
DTEND;TZID=America/Los_Angeles:20260710T193000
X-MICROSOFT-CDO-ALLDAYEVENT:FALSE
SUMMARY:Tour of Homes Kick Off Party
DESCRIPTION:
X-ALT-DESC;FMTTYPE=text/html:
LOCATION:6123 Evangelista St S Salem
UID:e.2301.1438552
SEQUENCE:3
DTSTAMP:20260421T204759Z
URL:https://members.homebuildersassociation.org/eventcalendar/Details/tour-of-homes-kick-off-party-1702679?sourceTypeId=Hub
END:VEVENT
END:VCALENDAR
