BEGIN:VCALENDAR
VERSION:2.0
PRODID:-//ChamberMaster//Event Calendar 2.0//EN
METHOD:PUBLISH
X-PUBLISHED-TTL:P1H
REFRESH-INTERVAL:P1H
CALSCALE:GREGORIAN
BEGIN:VTIMEZONE
TZID:America/Los_Angeles
BEGIN:DAYLIGHT
RRULE:FREQ=YEARLY;BYMONTH=3;BYDAY=2SU
DTSTART:20070101T000000
TZOFFSETFROM:-0800
TZOFFSETTO:-0700
TZNAME:Pacific Daylight Time
END:DAYLIGHT
BEGIN:STANDARD
RRULE:FREQ=YEARLY;BYMONTH=11;BYDAY=1SU
DTSTART:20070101T000000
TZOFFSETFROM:-0700
TZOFFSETTO:-0800
TZNAME:Pacific Standard Time
END:STANDARD
END:VTIMEZONE
BEGIN:VEVENT
DTSTART;TZID=America/Los_Angeles:20260423T113000
DTEND;TZID=America/Los_Angeles:20260423T130000
X-MICROSOFT-CDO-ALLDAYEVENT:FALSE
SUMMARY:Young Professionals Industry Panel Lunch
DESCRIPTION:We're excited to host our upcoming Young Professionals event on April 23rd from 11:30 AM   1:00 PM. Lunch will be provided.\n\nThis educational luncheon is designed for young professionals looking to learn directly from experienced leaders in the industry. It's a great opportunity to ask questions\, gain insight\, and hear real-world perspectives from those working in and alongside the trades.\n\nPanelists include:\nMike Riddle\, Riddle Construction\nSteve Hurley\, Banner Homes\nChris Rasmussen\, Hear No Evil\nDan Reynolds\, Attorney at Saalfeld Griggs\n\nDon't miss this chance to connect\, learn\, and grow within the industry.
X-ALT-DESC;FMTTYPE=text/html:<!DOCTYPE html><html><head><title></title></head><body aria-disabled="false"><p>We&rsquo\;re excited to host our upcoming Young Professionals event on April 23rd from 11:30 AM &ndash\; 1:00 PM. Lunch will be provided.<br><br>This educational luncheon is designed for young professionals looking to learn directly from experienced leaders in the industry. It&rsquo\;s a great opportunity to ask questions\, gain insight\, and hear real-world perspectives from those working in and alongside the trades.<br><br>Panelists include:<br><strong fr-original-style="" style="font-weight: 700\;">Mike Riddle</strong>\, Riddle Construction<br><strong fr-original-style="" style="font-weight: 700\;">Steve Hurley</strong>\, Banner Homes<br><strong fr-original-style="" style="font-weight: 700\;">Chris Rasmussen</strong>\, Hear No Evil<br><strong fr-original-style="" style="font-weight: 700\;">Dan Reynolds</strong>\, Attorney at Saalfeld Griggs<br><br>Don&rsquo\;t miss this chance to connect\, learn\, and grow within the industry.</p></body></html>
LOCATION:2075 Madrona Ave SE Salem OR 97302
UID:e.2301.1424013
SEQUENCE:3
DTSTAMP:20260421T203621Z
URL:https://members.homebuildersassociation.org/eventcalendar/Details/young-professionals-industry-panel-lunch-1683686?sourceTypeId=Hub
END:VEVENT
END:VCALENDAR
