BEGIN:VCALENDAR
VERSION:2.0
PRODID:-//ChamberMaster//Event Calendar 2.0//EN
METHOD:PUBLISH
X-PUBLISHED-TTL:P1H
REFRESH-INTERVAL:P1H
CALSCALE:GREGORIAN
BEGIN:VTIMEZONE
TZID:America/Los_Angeles
BEGIN:DAYLIGHT
RRULE:FREQ=YEARLY;BYMONTH=3;BYDAY=2SU
DTSTART:20070101T000000
TZOFFSETFROM:-0800
TZOFFSETTO:-0700
TZNAME:Pacific Daylight Time
END:DAYLIGHT
BEGIN:STANDARD
RRULE:FREQ=YEARLY;BYMONTH=11;BYDAY=1SU
DTSTART:20070101T000000
TZOFFSETFROM:-0700
TZOFFSETTO:-0800
TZNAME:Pacific Standard Time
END:STANDARD
END:VTIMEZONE
BEGIN:VEVENT
DTSTART;TZID=America/Los_Angeles:20260604T080000
DTEND;TZID=America/Los_Angeles:20260604T090000
X-MICROSOFT-CDO-ALLDAYEVENT:FALSE
SUMMARY:AI for Contractors: What Matters\, What Doesn't\, and How to Use It Safely
DESCRIPTION:AI is everywhere right now. Some of it is useful. A lot of it is noise. \n\nThe question for contractors isn't whether AI matters. It's where it actually helps your business and where it can create risk if used the wrong way. \n\nJoin us Thursday morning\, June 4th for a one-hour online class designed specifically for builders\, contractors\, and operator-led businesses. \n\nThis session will be led by Justin and Morgan Knox of KnoxOut AI and will focus on two things that matter most right now: \n\n1. AI and the State of the Industry. \nGet a clear\, plain-language look at what's changing and what it means for your business. You'll walk away with a better understanding of where AI is already making an impact\, where the hype is overblown\, and how to stay adaptable without chasing every new tool. \n\n2. AI Use: Policies\, Security and Privacy. \nLearn when AI should be used and when it shouldn't. We'll cover the real risks\, including bad outputs\, liability concerns\, and data privacy. You'll also be guided through simple\, practical ways to set guardrails for your team. \n\nWalk away with something you can actually use: \nEvery attendee will receive a drafted AI Use Policy template that you can adapt and implement within your company. \n\nThis is not a technical class. It's built for real-world application in construction businesses.
X-ALT-DESC;FMTTYPE=text/html:<!DOCTYPE html><html><head><title></title></head><body aria-disabled="false"><p>AI is everywhere right now. Some of it is useful. A lot of it is noise. <br><br>The question for contractors isn&rsquo\;t whether AI matters. It&rsquo\;s where it actually helps your business and where it can create risk if used the wrong way. <br><br>Join us Thursday morning\, June 4th for a one-hour online class designed specifically for builders\, contractors\, and operator-led businesses. <br><br>This session will be led by Justin and Morgan Knox of KnoxOut AI and will focus on two things that matter most right now: <br><br><strong fr-original-style="" style="font-weight: 700\;">1. AI and the State of the Industry.</strong> <br>Get a clear\, plain-language look at what&rsquo\;s changing and what it means for your business. You&rsquo\;ll walk away with a better understanding of where AI is already making an impact\, where the hype is overblown\, and how to stay adaptable without chasing every new tool. <br><br><strong fr-original-style="" style="font-weight: 700\;">2. AI Use: Policies\, Security and Privacy.</strong> <br>Learn when AI should be used and when it shouldn&rsquo\;t. We&rsquo\;ll cover the real risks\, including bad outputs\, liability concerns\, and data privacy. You&rsquo\;ll also be guided through simple\, practical ways to set guardrails for your team. <br><br><strong fr-original-style="" style="font-weight: 700\;">Walk away with something you can actually use:</strong> <br>Every attendee will receive a drafted AI Use Policy template that you can adapt and implement within your company. <br><br>This is not a technical class. It&rsquo\;s built for real-world application in construction businesses.</p></body></html>
LOCATION:
UID:e.2301.1451230
SEQUENCE:3
DTSTAMP:20260424T224326Z
URL:https://members.homebuildersassociation.org/eventcalendar/Details/ai-for-contractors-what-matters-what-doesn-t-and-how-to-use-it-safely-1718959?sourceTypeId=Hub
END:VEVENT
END:VCALENDAR
