BEGIN:VCALENDAR
VERSION:2.0
PRODID:-//ChamberMaster//Event Calendar 2.0//EN
METHOD:PUBLISH
X-PUBLISHED-TTL:P1H
REFRESH-INTERVAL:P1H
CALSCALE:GREGORIAN
BEGIN:VTIMEZONE
TZID:America/Los_Angeles
BEGIN:DAYLIGHT
RRULE:FREQ=YEARLY;BYMONTH=3;BYDAY=2SU
DTSTART:20070101T000000
TZOFFSETFROM:-0800
TZOFFSETTO:-0700
TZNAME:Pacific Daylight Time
END:DAYLIGHT
BEGIN:STANDARD
RRULE:FREQ=YEARLY;BYMONTH=11;BYDAY=1SU
DTSTART:20070101T000000
TZOFFSETFROM:-0700
TZOFFSETTO:-0800
TZNAME:Pacific Standard Time
END:STANDARD
END:VTIMEZONE
BEGIN:VEVENT
DTSTART;TZID=America/Los_Angeles:20220709T120000
DTEND;TZID=America/Los_Angeles:20220717T180000
X-MICROSOFT-CDO-ALLDAYEVENT:FALSE
SUMMARY:Tour of Homes Presented by NW Natural
DESCRIPTION:Featuring 11 new homes throughout Dallas\, Monmouth and Salem\, the 2022 Tour of Homes presented by NW Natural offers you the opportunity to view the latest trends in new home construction.  Taking place Saturday\, July 9th through Sunday\, July 17th\, the Tour is open from noon - 6pm on weekends\, and 6pm - 9pm during the week.  Admission is free.  Pick up your official Tour of Homes guidebook at any Tour home during regular Tour hours\, or at sponsors Cherry City Interiors\, Hear No Evil\, HomeSmart Real Estate or The Fixture Gallery.  View the online flipbook of the 2022 Tour of Homes guidebook.
X-ALT-DESC;FMTTYPE=text/html:<!DOCTYPE html><html><head><title></title></head><body aria-disabled="false"><p>Featuring 11 new homes throughout Dallas\, Monmouth and Salem\, the 2022 Tour of Homes presented by NW Natural offers you the opportunity to view the latest trends in new home construction. &nbsp\;Taking place Saturday\, July 9th through Sunday\, July 17th\, the Tour is open from noon - 6pm on weekends\, and 6pm - 9pm during the week. &nbsp\;Admission is free. &nbsp\;Pick up your official Tour of Homes guidebook at any Tour home during regular Tour hours\, or at sponsors Cherry City Interiors\, Hear No Evil\, HomeSmart Real Estate or The Fixture Gallery. &nbsp\;<a fr-original-style="" href="https://emflipbooks.com/flipbooks/HBA_MarionPolk/PoH/2022/" style="-webkit-user-select: auto\;">View the online flipbook of the 2022 Tour of Homes guidebook.</a></p></body></html>
LOCATION:
UID:e.2301.553862
SEQUENCE:3
DTSTAMP:20260424T172949Z
URL:https://members.homebuildersassociation.org/eventcalendar/Details/tour-of-homes-presented-by-nw-natural-568501?sourceTypeId=Hub
END:VEVENT
END:VCALENDAR
